BEGIN:VCALENDAR
VERSION:2.0
PRODID:-//Squarespace Inc/Squarespace 6//v6//EN
BEGIN:VEVENT
UID:5c902c4653450a26ec93b31a@squarespace.com
DTSTAMP:20190319T003458Z
DTSTART:20190331T020000Z
DTEND:20190331T070000Z
SUMMARY:Forex101 Member Meet Up | The Star Gold Coast
END:VEVENT
END:VCALENDAR
